BEGIN:VCALENDAR
VERSION:2.0
PRODID:icalendar-ruby
CALSCALE:GREGORIAN
METHOD:PUBLISH
BEGIN:VEVENT
DTSTAMP:20260426T020631Z
UID:3f33c919-83f8-4544-8900-91c1fcc714b5
DTSTART:20260617T163000
DTEND:20260617T201500
LOCATION: München mit Live Übertragung aus Berlin
SUMMARY:27. Update gynäkologische Onkologie
END:VEVENT
END:VCALENDAR
