BEGIN:VCALENDAR
VERSION:2.0
PRODID:icalendar-ruby
CALSCALE:GREGORIAN
METHOD:PUBLISH
BEGIN:VEVENT
DTSTAMP:20260420T091232Z
UID:1c28caeb-8a80-4ace-9535-d92e15a53030
DTSTART:20250615T090000
DTEND:20250620T170000
LOCATION:Kigali\, Rwanda
SUMMARY:12. EDCTP-Forum
END:VEVENT
END:VCALENDAR
