BEGIN:VCALENDAR
VERSION:2.0
PRODID:icalendar-ruby
CALSCALE:GREGORIAN
METHOD:PUBLISH
BEGIN:VEVENT
DTSTAMP:20260422T115358Z
UID:f6b42d2a-fea1-4bc6-93ae-b6b58a1b3777
DTSTART:20260520T100000
DTEND:20260522T130000
LOCATION:National Academy of Sciences Leopoldina in Halle (Saale)\, Germany
SUMMARY:4th (Inter-) National Conference on Infectious Disease Modeling
END:VEVENT
END:VCALENDAR
