BEGIN:VCALENDAR
VERSION:2.0
PRODID:icalendar-ruby
CALSCALE:GREGORIAN
METHOD:PUBLISH
BEGIN:VEVENT
DTSTAMP:20260425T211017Z
UID:198b9d5a-ecb8-41a4-9661-87fb1cb78a43
DTSTART:20251129T090000
DTEND:20251129T170000
LOCATION:Online\, Zoom
SUMMARY:DTG Refresher Reisemedizin 2025
END:VEVENT
END:VCALENDAR
