BEGIN:VCALENDAR
VERSION:2.0
PRODID:icalendar-ruby
CALSCALE:GREGORIAN
METHOD:PUBLISH
BEGIN:VEVENT
DTSTAMP:20260419T153129Z
UID:aae27aaa-85bb-467e-89b5-d74d8f2241b4
DTSTART:20260228T090000
DTEND:20260228T170000
LOCATION: Seminarraum (Raum 116\, 1. Stock)\nInstitut für Infektions- un
 d Tropenmedizin \nLMU Klinikum\nLeopoldstr. 5 - 80802 München
SUMMARY: Malaria-Diagnostik-Kurs 2026
END:VEVENT
END:VCALENDAR
