BEGIN:VCALENDAR
VERSION:2.0
PRODID:icalendar-ruby
CALSCALE:GREGORIAN
METHOD:PUBLISH
BEGIN:VEVENT
DTSTAMP:20260425T140933Z
UID:7aacc0fd-7350-4c75-b3d8-4341b4f14553
DTSTART:20260511T090000
DTEND:20260511T180000
LOCATION:Tanzania\, Dar es Salaam
SUMMARY: 3rd Conference on Innovations in Tuberculosis 2026
END:VEVENT
END:VCALENDAR
