BEGIN:VCALENDAR
VERSION:2.0
PRODID:icalendar-ruby
CALSCALE:GREGORIAN
METHOD:PUBLISH
BEGIN:VEVENT
DTSTAMP:20260420T093516Z
UID:ca0c0aca-ccee-4fcb-a25b-11b914ef2a79
DTSTART:20260228T090000
DTEND:20261025T170000
LOCATION:Online\, Zoom
SUMMARY:DTG basic course in travel medicine 2026
END:VEVENT
END:VCALENDAR
