BEGIN:VCALENDAR
VERSION:2.0
PRODID:icalendar-ruby
CALSCALE:GREGORIAN
METHOD:PUBLISH
BEGIN:VEVENT
DTSTAMP:20260425T230344Z
UID:0956a412-687f-4d97-ae77-0e89a9b218a0
DTSTART:20251129T090000
DTEND:20251129T170000
LOCATION:Online\, Zoom
SUMMARY:DTG Refresher Travel Medicine 2025
END:VEVENT
END:VCALENDAR
