BEGIN:VCALENDAR
VERSION:2.0
PRODID:icalendar-ruby
CALSCALE:GREGORIAN
METHOD:PUBLISH
BEGIN:VEVENT
DTSTAMP:20260419T140124Z
UID:cd0b645d-9f51-45b2-8e0a-58ff621cab62
DTSTART:20260228T090000
DTEND:20260228T170000
LOCATION: Seminar room (Raum 116)\nInstitute of Infectious Diseases and T
 ropical Medicine\nLMU University Hospital\nLeopoldstr. 5 - 80802 Munich
SUMMARY:Malaria Diagnostics Course 2026
END:VEVENT
END:VCALENDAR
